BEGIN:VCALENDAR
VERSION:2.0
PRODID:-//Visit Ramsbottom - ECPv6.15.20//NONSGML v1.0//EN
CALSCALE:GREGORIAN
METHOD:PUBLISH
X-ORIGINAL-URL:https://www.visitramsbottom.co.uk
X-WR-CALDESC:Events for Visit Ramsbottom
REFRESH-INTERVAL;VALUE=DURATION:PT1H
X-Robots-Tag:noindex
X-PUBLISHED-TTL:PT1H
BEGIN:VTIMEZONE
TZID:Europe/London
BEGIN:DAYLIGHT
TZOFFSETFROM:+0000
TZOFFSETTO:+0100
TZNAME:BST
DTSTART:20250330T010000
END:DAYLIGHT
BEGIN:STANDARD
TZOFFSETFROM:+0100
TZOFFSETTO:+0000
TZNAME:GMT
DTSTART:20251026T010000
END:STANDARD
BEGIN:DAYLIGHT
TZOFFSETFROM:+0000
TZOFFSETTO:+0100
TZNAME:BST
DTSTART:20260329T010000
END:DAYLIGHT
BEGIN:STANDARD
TZOFFSETFROM:+0100
TZOFFSETTO:+0000
TZNAME:GMT
DTSTART:20261025T010000
END:STANDARD
BEGIN:DAYLIGHT
TZOFFSETFROM:+0000
TZOFFSETTO:+0100
TZNAME:BST
DTSTART:20270328T010000
END:DAYLIGHT
BEGIN:STANDARD
TZOFFSETFROM:+0100
TZOFFSETTO:+0000
TZNAME:GMT
DTSTART:20271031T010000
END:STANDARD
END:VTIMEZONE
BEGIN:VEVENT
DTSTART;TZID=Europe/London:20261114T000000
DTEND;TZID=Europe/London:20261115T235959
DTSTAMP:20260425T121815
CREATED:20260317T220543Z
LAST-MODIFIED:20260317T220544Z
UID:10000107-1794614400-1794787199@www.visitramsbottom.co.uk
SUMMARY:Diesel Multiple Unit Event
DESCRIPTION:Good things come in small packages! \n\n\n\nWe are pleased to present a two day Autumnal event with our Diesel Multiple Unit (DMU) Event – Saturday 7th and Sunday 8th November 2026! \n\n\n\nOur scenic railcars and units will be racking up the miles along the ELR over the two days with an intensive timetable. \n\n\n\nDates\n\n\n\n7 – 8 November 2026 \n\n\n\nTickets available soon \n\n\n\nTimetable\n\n\n\nTimetable available nearer the event.
URL:https://www.visitramsbottom.co.uk/event/diesel-multiple-unit-event/
LOCATION:East Lancashire Railway\, East Lancashire Railway Station\, 23A Bolton Street\, Bury\, Lancashire\, BL9 0EL\, United Kingdom
ORGANIZER;CN="East Lancashire Railway":MAILTO:enquiries@eastlancsrailway.co.uk
END:VEVENT
BEGIN:VEVENT
DTSTART;TZID=Europe/London:20261126T000000
DTEND;TZID=Europe/London:20261126T235959
DTSTAMP:20260425T121815
CREATED:20260317T153236Z
LAST-MODIFIED:20260317T200340Z
UID:10000076-1795651200-1795737599@www.visitramsbottom.co.uk
SUMMARY:Ramsbottom Rotary Fund Raising - Monthly Quiz
DESCRIPTION:
URL:https://www.visitramsbottom.co.uk/event/ramsbottom-rotary-fund-raising-monthly-quiz/2026-11-26/
LOCATION:Bar XLII\, 42 Bolton Street\, Ramsbottom\, Bury\, Lancashire\, BL0 9HX\, United Kingdom
END:VEVENT
BEGIN:VEVENT
DTSTART;TZID=Europe/London:20261127T000000
DTEND;TZID=Europe/London:20261224T235959
DTSTAMP:20260425T121815
CREATED:20260317T221124Z
LAST-MODIFIED:20260317T221125Z
UID:10000108-1795737600-1798156799@www.visitramsbottom.co.uk
SUMMARY:Ramsbottom Rotary - Santa Visits
DESCRIPTION:Santa Visits throughout Ramsbottom \n\n\n\nNB: Dates are approximate – to be confirmed nearer the time
URL:https://www.visitramsbottom.co.uk/event/ramsbottom-rotary-santa-visits/
LOCATION:Great Eaves Rd Ramsbottom\, Ramsbottom\, Bury\, BL0 0PX\, United Kingdom
ORGANIZER;CN="Ramsbottom Rotary":MAILTO:ramsbottomrotary@gmail.com
END:VEVENT
BEGIN:VEVENT
DTSTART;TZID=Europe/London:20261129T110000
DTEND;TZID=Europe/London:20261129T160000
DTSTAMP:20260425T121815
CREATED:20260317T143304Z
LAST-MODIFIED:20260324T160044Z
UID:10000051-1795950000-1795968000@www.visitramsbottom.co.uk
SUMMARY:Christmas Makers Market
DESCRIPTION:The Ramsbottom Makers Market celebrates creativity and craftsmanship with a curated collection of independent stalls showcasing handmade goods\, artisan crafts\, bespoke gifts\, and local produce. Held regularly in the heart of town\, the market brings together talented makers\, designers\, and creators for a vibrant\, community‑focused shopping experience. Whether you’re browsing for unique finds or meeting friends over artisan food and drink\, the market reflects Ramsbottom’s entrepreneurial spirit and creative energy. \n\n\n\nRun by Cllr. Cummins\, Clare A. C.A.Cummins@bury.gov.uk or Makers Market on Facebook.
URL:https://www.visitramsbottom.co.uk/event/christmas-makers-market/
LOCATION:Ramsbottom Civic Hall\, Market Place\, Ramsbottom\, Bury\, BL0 9AJ\, United Kingdom
END:VEVENT
BEGIN:VEVENT
DTSTART;TZID=Europe/London:20261214T100000
DTEND;TZID=Europe/London:20261214T150000
DTSTAMP:20260425T121815
CREATED:20260317T220351Z
LAST-MODIFIED:20260317T220352Z
UID:10000106-1797242400-1797260400@www.visitramsbottom.co.uk
SUMMARY:Bleakholt Christmas Fair
DESCRIPTION:
URL:https://www.visitramsbottom.co.uk/event/bleakholt-christmas-fair/
LOCATION:Ramsbottom Civic Hall\, Market Place\, Ramsbottom\, Bury\, BL0 9AJ\, United Kingdom
ORGANIZER;CN="Bleakholt Animal Sanctuary":MAILTO:info@bleakholt.org
END:VEVENT
END:VCALENDAR